BEGIN:VCALENDAR
VERSION:2.0
PRODID:-//InvisionCommunity Events 4.7.23//EN
METHOD:PUBLISH
CALSCALE:GREGORIAN
REFRESH-INTERVAL:PT15M
X-PUBLISHED-TTL:PT15M
X-WR-CALNAME:Community Calendar
NAME:Community Calendar
BEGIN:VTIMEZONE
TZID:Europe/London
TZURL:http://tzurl.org/zoneinfo/Europe/London
X-LIC-LOCATION:Europe/London
BEGIN:DAYLIGHT
TZOFFSETFROM:+0000
TZOFFSETTO:+0100
TZNAME:BST
DTSTART:20250330T020000Z
RRULE:FREQ=YEARLY;BYMONTH=3;BYDAY=-1SU
END:DAYLIGHT
BEGIN:STANDARD
TZOFFSETFROM:+0100
TZOFFSETTO:+0000
TZNAME:GMT
DTSTART:20251026T020000Z
RRULE:FREQ=YEARLY;BYMONTH=10;BYDAY=-1SU
END:STANDARD
END:VTIMEZONE
BEGIN:VEVENT
SUMMARY:Griffiths Biggest Lap
DTSTAMP:20250530T082958Z
SEQUENCE:0
UID:1-1-6b321102a2d1716b5d3e0d5c0c1d0845@ridershed.com.au
ORGANIZER;CN="AJ":no-reply@ridershed.au
DESCRIPTION:\n	Griffith’s Biggest Lap is a moving car show\, with 500 
	vehicles travelling\n\n	down Griffith’s main street\, Banna Ave. It is a
	 celebration of the tradition of “lapping”\n\n	Griffith’s main stree
	t that many of us did as young kids.\n\n\n\n	It is a unique event within t
	he region and is held on Saturday evening 4th October 2024.\n\n\n\n	In rec
	ent events\, the main street has been closed with only event entrants bein
	g\n\n	able to access it. Each year of the event\, we consistently make imp
	rovements to\n\n	the route\, and this year is no different. This years eve
	nt will lead it’s parade lap from Coolah Street to Benerembah Circle\, t
	hen travel East down Banna Avenue.\n\n\n\n	The event attracts car enthusia
	sts from as far away as South Australia\, Victoria\,\n\n	Sydney\, Wagga an
	d local surrounding towns. Griffith’s main street is transformed into a 
	car lover’s dream. A unique experience where you not only see the cars\,
	 but hear &amp\; feel the rumble\, and smell the exhausts as they drive by
	 your vantage spot. Car’s such as Mark Harris’ 1940 Chev Hot Rod\, rar
	e GT HO’s\, Danny Dal Broi’s L34 Torana\, the Gibbs’ 57 Chev and so 
	many more amazing beasts.\n\n\n\n	 \n\n\n\n	Buy tickets: https://griffit
	hsbiggestlap.com.au/event/gbl-2025/\n\n
DTSTART:20251004T080000Z
DTEND:20251004T103000Z
END:VEVENT
END:VCALENDAR
